BEGIN:VCALENDAR
VERSION:2.0
PRODID:-//Forauco - ECPv6.0.1//NONSGML v1.0//EN
CALSCALE:GREGORIAN
METHOD:PUBLISH
X-WR-CALNAME:Forauco
X-ORIGINAL-URL:https://forauco.fr
X-WR-CALDESC:Events for Forauco
REFRESH-INTERVAL;VALUE=DURATION:PT1H
X-Robots-Tag:noindex
X-PUBLISHED-TTL:PT1H
BEGIN:VTIMEZONE
TZID:Europe/Paris
BEGIN:DAYLIGHT
TZOFFSETFROM:+0100
TZOFFSETTO:+0200
TZNAME:CEST
DTSTART:20230326T010000
END:DAYLIGHT
BEGIN:STANDARD
TZOFFSETFROM:+0200
TZOFFSETTO:+0100
TZNAME:CET
DTSTART:20231029T010000
END:STANDARD
END:VTIMEZONE
BEGIN:VEVENT
DTSTART;TZID=Europe/Paris:20230417T080000
DTEND;TZID=Europe/Paris:20230616T080000
DTSTAMP:20260422T200254
CREATED:20220929T091638Z
LAST-MODIFIED:20220929T091648Z
UID:25533-1681718400-1686902400@forauco.fr
SUMMARY:TITRE APS + SSIAP1
DESCRIPTION:
URL:https://forauco.fr/event/titre-aps-ssiap1-3/
CATEGORIES:TITRE APS
END:VEVENT
BEGIN:VEVENT
DTSTART;TZID=Europe/Paris:20230524T080000
DTEND;TZID=Europe/Paris:20230603T170000
DTSTAMP:20260422T200254
CREATED:20230513T074833Z
LAST-MODIFIED:20230513T074833Z
UID:26057-1684915200-1685811600@forauco.fr
SUMMARY:Titre APS
DESCRIPTION:
URL:https://forauco.fr/event/titre-aps-8/
CATEGORIES:MAC APS
END:VEVENT
BEGIN:VEVENT
DTSTART;TZID=Europe/Paris:20230530T080000
DTEND;TZID=Europe/Paris:20230602T170000
DTSTAMP:20260422T200254
CREATED:20220929T092032Z
LAST-MODIFIED:20220929T092032Z
UID:25550-1685433600-1685725200@forauco.fr
SUMMARY:EQUIVALENCE SSIAP2
DESCRIPTION:
URL:https://forauco.fr/event/equivalence-ssiap2-2/
CATEGORIES:SSIAP2
END:VEVENT
BEGIN:VEVENT
DTSTART;TZID=Europe/Paris:20230530T080000
DTEND;TZID=Europe/Paris:20230612T170000
DTSTAMP:20260422T200254
CREATED:20220929T091853Z
LAST-MODIFIED:20220929T091853Z
UID:25544-1685433600-1686589200@forauco.fr
SUMMARY:SSIAP2 INITIALE
DESCRIPTION:
URL:https://forauco.fr/event/ssiap2-initiale-4/
CATEGORIES:SSIAP2
END:VEVENT
BEGIN:VEVENT
DTSTART;TZID=Europe/Paris:20230531T080000
DTEND;TZID=Europe/Paris:20230602T170000
DTSTAMP:20260422T200254
CREATED:20220929T092223Z
LAST-MODIFIED:20220929T092223Z
UID:25560-1685520000-1685725200@forauco.fr
SUMMARY:SSIAP2 REMISE A NIVEAU
DESCRIPTION:
URL:https://forauco.fr/event/ssiap2-remise-a-niveau-4/
CATEGORIES:RECYCLAGE et RAN SSIAP2
END:VEVENT
BEGIN:VEVENT
DTSTART;TZID=Europe/Paris:20230601T080000
DTEND;TZID=Europe/Paris:20230602T170000
DTSTAMP:20260422T200254
CREATED:20220929T094527Z
LAST-MODIFIED:20220929T094527Z
UID:25616-1685606400-1685725200@forauco.fr
SUMMARY:SST INITIALE
DESCRIPTION:
URL:https://forauco.fr/event/sst-initiale-5/
CATEGORIES:SST
END:VEVENT
END:VCALENDAR