BEGIN:VCALENDAR
VERSION:2.0
PRODID:-//Forauco - ECPv6.0.1//NONSGML v1.0//EN
CALSCALE:GREGORIAN
METHOD:PUBLISH
X-ORIGINAL-URL:https://forauco.fr
X-WR-CALDESC:Events for Forauco
REFRESH-INTERVAL;VALUE=DURATION:PT1H
X-Robots-Tag:noindex
X-PUBLISHED-TTL:PT1H
BEGIN:VTIMEZONE
TZID:Europe/Paris
BEGIN:DAYLIGHT
TZOFFSETFROM:+0100
TZOFFSETTO:+0200
TZNAME:CEST
DTSTART:20230326T010000
END:DAYLIGHT
BEGIN:STANDARD
TZOFFSETFROM:+0200
TZOFFSETTO:+0100
TZNAME:CET
DTSTART:20231029T010000
END:STANDARD
END:VTIMEZONE
BEGIN:VEVENT
DTSTART;TZID=Europe/Paris:20230907T080000
DTEND;TZID=Europe/Paris:20231027T170000
DTSTAMP:20260422T133533
CREATED:20220929T091713Z
LAST-MODIFIED:20220929T091713Z
UID:25536-1694073600-1698426000@forauco.fr
SUMMARY:TITRE APS + SSIAP1
DESCRIPTION:
URL:https://forauco.fr/event/titre-aps-ssiap1-4/
CATEGORIES:TITRE APS
END:VEVENT
BEGIN:VEVENT
DTSTART;TZID=Europe/Paris:20230925T080000
DTEND;TZID=Europe/Paris:20230925T170000
DTSTAMP:20260422T133533
CREATED:20220929T095738Z
LAST-MODIFIED:20220929T095738Z
UID:25662-1695628800-1695661200@forauco.fr
SUMMARY:Habilitation Electrique B0 H0
DESCRIPTION:
URL:https://forauco.fr/event/habilitation-electrique-b0-h0-8/
CATEGORIES:Habilitation Electrique
END:VEVENT
BEGIN:VEVENT
DTSTART;TZID=Europe/Paris:20230925T080000
DTEND;TZID=Europe/Paris:20230929T170000
DTSTAMP:20260422T133533
CREATED:20220929T100211Z
LAST-MODIFIED:20220929T100211Z
UID:25682-1695628800-1696006800@forauco.fr
SUMMARY:Habilitation Electrique BS /BE Manœuvre
DESCRIPTION:
URL:https://forauco.fr/event/habilitation-electrique-bs-be-manoeuvre-8/
CATEGORIES:Habilitation Electrique
END:VEVENT
BEGIN:VEVENT
DTSTART;TZID=Europe/Paris:20230925T080000
DTEND;TZID=Europe/Paris:20230930T170000
DTSTAMP:20260422T133533
CREATED:20220929T100602Z
LAST-MODIFIED:20220929T100602Z
UID:25702-1695628800-1696093200@forauco.fr
SUMMARY:Habilitation Electrique B1 / B1V / BR / BC  /B2 / B2V  Initiale /Recyclage
DESCRIPTION:
URL:https://forauco.fr/event/habilitation-electrique-b1-b1v-br-bc-b2-b2v-initiale-recyclage-8/
CATEGORIES:Habilitation Electrique
END:VEVENT
BEGIN:VEVENT
DTSTART;TZID=Europe/Paris:20230925T080000
DTEND;TZID=Europe/Paris:20231027T170000
DTSTAMP:20260422T133533
CREATED:20220929T082418Z
LAST-MODIFIED:20220929T082434Z
UID:25425-1695628800-1698426000@forauco.fr
SUMMARY:TITRE APS
DESCRIPTION:
URL:https://forauco.fr/event/titre-aps-6/
CATEGORIES:TITRE APS
END:VEVENT
BEGIN:VEVENT
DTSTART;TZID=Europe/Paris:20230925T080000
DTEND;TZID=Europe/Paris:20231027T170000
DTSTAMP:20260422T133533
CREATED:20230914T064233Z
LAST-MODIFIED:20230914T064233Z
UID:26073-1695628800-1698426000@forauco.fr
SUMMARY:TITRE APS
DESCRIPTION:
URL:https://forauco.fr/event/titre-aps-9/
LOCATION:9 Rue du Marché Commun\, 44300 Nantes
CATEGORIES:TITRE APS
END:VEVENT
END:VCALENDAR