BEGIN:VCALENDAR
VERSION:2.0
PRODID:-//Forauco - ECPv6.0.1//NONSGML v1.0//EN
CALSCALE:GREGORIAN
METHOD:PUBLISH
X-WR-CALNAME:Forauco
X-ORIGINAL-URL:https://forauco.fr
X-WR-CALDESC:Events for Forauco
REFRESH-INTERVAL;VALUE=DURATION:PT1H
X-Robots-Tag:noindex
X-PUBLISHED-TTL:PT1H
BEGIN:VTIMEZONE
TZID:Europe/Paris
BEGIN:DAYLIGHT
TZOFFSETFROM:+0100
TZOFFSETTO:+0200
TZNAME:CEST
DTSTART:20230326T010000
END:DAYLIGHT
BEGIN:STANDARD
TZOFFSETFROM:+0200
TZOFFSETTO:+0100
TZNAME:CET
DTSTART:20231029T010000
END:STANDARD
END:VTIMEZONE
BEGIN:VEVENT
DTSTART;TZID=Europe/Paris:20230320T080000
DTEND;TZID=Europe/Paris:20230320T170000
DTSTAMP:20260423T112719
CREATED:20220929T093536Z
LAST-MODIFIED:20220929T093536Z
UID:25576-1679299200-1679331600@forauco.fr
SUMMARY:SSIAP3 INITIALE
DESCRIPTION:Formation en 3 parties\n20/03/2023\n02/06/2023\n02/06/2023
URL:https://forauco.fr/event/ssiap3-initiale-2/
CATEGORIES:SSIAP3
END:VEVENT
END:VCALENDAR