BEGIN:VCALENDAR
VERSION:2.0
PRODID:-//Forauco - ECPv6.0.1//NONSGML v1.0//EN
CALSCALE:GREGORIAN
METHOD:PUBLISH
X-WR-CALNAME:Forauco
X-ORIGINAL-URL:https://forauco.fr
X-WR-CALDESC:Events for Forauco
REFRESH-INTERVAL;VALUE=DURATION:PT1H
X-Robots-Tag:noindex
X-PUBLISHED-TTL:PT1H
BEGIN:VTIMEZONE
TZID:Europe/Paris
BEGIN:DAYLIGHT
TZOFFSETFROM:+0100
TZOFFSETTO:+0200
TZNAME:CEST
DTSTART:20230326T010000
END:DAYLIGHT
BEGIN:STANDARD
TZOFFSETFROM:+0200
TZOFFSETTO:+0100
TZNAME:CET
DTSTART:20231029T010000
END:STANDARD
END:VTIMEZONE
BEGIN:VEVENT
DTSTART;TZID=Europe/Paris:20230605T080000
DTEND;TZID=Europe/Paris:20230616T170000
DTSTAMP:20260421T112432
CREATED:20220929T084947Z
LAST-MODIFIED:20220929T084947Z
UID:25469-1685952000-1686934800@forauco.fr
SUMMARY:SSIAP1 INITIALE
DESCRIPTION:
URL:https://forauco.fr/event/ssiap1-initiale-6/
CATEGORIES:SSIAP1
END:VEVENT
BEGIN:VEVENT
DTSTART;TZID=Europe/Paris:20230607T080000
DTEND;TZID=Europe/Paris:20230621T170000
DTSTAMP:20260421T112432
CREATED:20230513T074921Z
LAST-MODIFIED:20230513T074921Z
UID:26059-1686124800-1687366800@forauco.fr
SUMMARY:SSIAP1
DESCRIPTION:
URL:https://forauco.fr/event/ssiap1/
CATEGORIES:SSIAP1
END:VEVENT
END:VCALENDAR