BEGIN:VCALENDAR
VERSION:2.0
PRODID:-//Forauco - ECPv6.0.1//NONSGML v1.0//EN
CALSCALE:GREGORIAN
METHOD:PUBLISH
X-WR-CALNAME:Forauco
X-ORIGINAL-URL:https://forauco.fr
X-WR-CALDESC:Events for Forauco
REFRESH-INTERVAL;VALUE=DURATION:PT1H
X-Robots-Tag:noindex
X-PUBLISHED-TTL:PT1H
BEGIN:VTIMEZONE
TZID:Europe/Paris
BEGIN:DAYLIGHT
TZOFFSETFROM:+0100
TZOFFSETTO:+0200
TZNAME:CEST
DTSTART:20230326T010000
END:DAYLIGHT
BEGIN:STANDARD
TZOFFSETFROM:+0200
TZOFFSETTO:+0100
TZNAME:CET
DTSTART:20231029T010000
END:STANDARD
END:VTIMEZONE
BEGIN:VEVENT
DTSTART;TZID=Europe/Paris:20231009T080000
DTEND;TZID=Europe/Paris:20231020T170000
DTSTAMP:20260421T045031
CREATED:20230914T064055Z
LAST-MODIFIED:20230914T064055Z
UID:26067-1696838400-1697821200@forauco.fr
SUMMARY:SSIAP1
DESCRIPTION:
URL:https://forauco.fr/event/ssiap1-2/
LOCATION:9 Rue du Marché Commun\, 44300 Nantes
CATEGORIES:SSIAP1
END:VEVENT
END:VCALENDAR