BEGIN:VCALENDAR
VERSION:2.0
PRODID:-//Forauco - ECPv6.0.1//NONSGML v1.0//EN
CALSCALE:GREGORIAN
METHOD:PUBLISH
X-ORIGINAL-URL:https://forauco.fr
X-WR-CALDESC:Events for Forauco
REFRESH-INTERVAL;VALUE=DURATION:PT1H
X-Robots-Tag:noindex
X-PUBLISHED-TTL:PT1H
BEGIN:VTIMEZONE
TZID:Europe/Paris
BEGIN:DAYLIGHT
TZOFFSETFROM:+0100
TZOFFSETTO:+0200
TZNAME:CEST
DTSTART:20230326T010000
END:DAYLIGHT
BEGIN:STANDARD
TZOFFSETFROM:+0200
TZOFFSETTO:+0100
TZNAME:CET
DTSTART:20231029T010000
END:STANDARD
END:VTIMEZONE
BEGIN:VEVENT
DTSTART;TZID=Europe/Paris:20231002T080000
DTEND;TZID=Europe/Paris:20231208T170000
DTSTAMP:20260422T101830
CREATED:20220929T093428Z
LAST-MODIFIED:20220929T093454Z
UID:25574-1696233600-1702054800@forauco.fr
SUMMARY:SSIAP3 INITIALE
DESCRIPTION:Formation en 3 parties:\n02/10/2023\n08/12/2023\n08/12/2023
URL:https://forauco.fr/event/ssiap3-initiale/
CATEGORIES:SSIAP3
END:VEVENT
BEGIN:VEVENT
DTSTART;TZID=Europe/Paris:20231106T080000
DTEND;TZID=Europe/Paris:20231108T170000
DTSTAMP:20260422T101830
CREATED:20220929T093904Z
LAST-MODIFIED:20220929T093904Z
UID:25588-1699257600-1699462800@forauco.fr
SUMMARY:SSIAP3 RECYCLAGE
DESCRIPTION:
URL:https://forauco.fr/event/ssiap3-recyclage-3/
CATEGORIES:RECYCLAGE SSIAP3
END:VEVENT
BEGIN:VEVENT
DTSTART;TZID=Europe/Paris:20231106T080000
DTEND;TZID=Europe/Paris:20231109T170000
DTSTAMP:20260422T101830
CREATED:20220929T094241Z
LAST-MODIFIED:20220929T094241Z
UID:25604-1699257600-1699549200@forauco.fr
SUMMARY:MAC APS
DESCRIPTION:
URL:https://forauco.fr/event/mac-aps-8/
CATEGORIES:MAC APS
END:VEVENT
BEGIN:VEVENT
DTSTART;VALUE=DATE:20231109
DTEND;VALUE=DATE:20231110
DTSTAMP:20260422T101830
CREATED:20230914T064516Z
LAST-MODIFIED:20230914T064516Z
UID:26083-1699488000-1699574399@forauco.fr
SUMMARY:MAC SST
DESCRIPTION:
URL:https://forauco.fr/event/mac-sst-2/
LOCATION:9 Rue du Marché Commun\, 44300 Nantes
CATEGORIES:MAC SST
END:VEVENT
BEGIN:VEVENT
DTSTART;TZID=Europe/Paris:20231109T080000
DTEND;TZID=Europe/Paris:20231109T170000
DTSTAMP:20260422T101830
CREATED:20220929T095253Z
LAST-MODIFIED:20220929T095253Z
UID:25644-1699516800-1699549200@forauco.fr
SUMMARY:SST recyclage
DESCRIPTION:
URL:https://forauco.fr/event/sst-recyclage-10/
CATEGORIES:MAC SST
END:VEVENT
BEGIN:VEVENT
DTSTART;TZID=Europe/Paris:20231109T080000
DTEND;TZID=Europe/Paris:20231119T170000
DTSTAMP:20260422T101830
CREATED:20220929T094631Z
LAST-MODIFIED:20220929T094631Z
UID:25622-1699516800-1700413200@forauco.fr
SUMMARY:SST INITIALE
DESCRIPTION:
URL:https://forauco.fr/event/sst-initiale-8/
CATEGORIES:SST
END:VEVENT
BEGIN:VEVENT
DTSTART;TZID=Europe/Paris:20231113T080000
DTEND;TZID=Europe/Paris:20231121T170000
DTSTAMP:20260422T101830
CREATED:20220929T085324Z
LAST-MODIFIED:20220929T085324Z
UID:25475-1699862400-1700586000@forauco.fr
SUMMARY:SSIAP1 INITIALE
DESCRIPTION:
URL:https://forauco.fr/event/ssiap1-initiale-9/
CATEGORIES:SSIAP1
END:VEVENT
BEGIN:VEVENT
DTSTART;TZID=Europe/Paris:20231113T080000
DTEND;TZID=Europe/Paris:20231124T170000
DTSTAMP:20260422T101830
CREATED:20230914T064336Z
LAST-MODIFIED:20230914T064336Z
UID:26077-1699862400-1700845200@forauco.fr
SUMMARY:SSIAP2
DESCRIPTION:
URL:https://forauco.fr/event/ssiap2/
LOCATION:9 Rue du Marché Commun\, 44300 Nantes
CATEGORIES:SSIAP2
END:VEVENT
BEGIN:VEVENT
DTSTART;TZID=Europe/Paris:20231113T080000
DTEND;TZID=Europe/Paris:20231220T170000
DTSTAMP:20260422T101830
CREATED:20230914T064306Z
LAST-MODIFIED:20230914T064306Z
UID:26075-1699862400-1703091600@forauco.fr
SUMMARY:TITRE APS
DESCRIPTION:
URL:https://forauco.fr/event/titre-aps-10/
LOCATION:9 Rue du Marché Commun\, 44300 Nantes
CATEGORIES:TITRE APS
END:VEVENT
BEGIN:VEVENT
DTSTART;TZID=Europe/Paris:20231120T080000
DTEND;TZID=Europe/Paris:20231222T170000
DTSTAMP:20260422T101830
CREATED:20220929T082501Z
LAST-MODIFIED:20220929T082501Z
UID:25428-1700467200-1703264400@forauco.fr
SUMMARY:TITRE APS
DESCRIPTION:
URL:https://forauco.fr/event/titre-aps-7/
CATEGORIES:TITRE APS
END:VEVENT
BEGIN:VEVENT
DTSTART;TZID=Europe/Paris:20231127T080000
DTEND;TZID=Europe/Paris:20231128T170000
DTSTAMP:20260422T101830
CREATED:20220929T091353Z
LAST-MODIFIED:20220929T091353Z
UID:25525-1701072000-1701190800@forauco.fr
SUMMARY:RECYCLAGE SSIAP1
DESCRIPTION:
URL:https://forauco.fr/event/recyclage-ssiap1-8/
CATEGORIES:RECYCLAGE et RAN SSIAP1
END:VEVENT
BEGIN:VEVENT
DTSTART;TZID=Europe/Paris:20231127T080000
DTEND;TZID=Europe/Paris:20231129T170000
DTSTAMP:20260422T101830
CREATED:20220929T090058Z
LAST-MODIFIED:20220929T090333Z
UID:25491-1701072000-1701277200@forauco.fr
SUMMARY:REMISE A NIVEAU SSIAP1
DESCRIPTION:
URL:https://forauco.fr/event/remise-a-niveau-ssiap1-7/
CATEGORIES:RECYCLAGE et RAN SSIAP1
END:VEVENT
BEGIN:VEVENT
DTSTART;TZID=Europe/Paris:20231128T080000
DTEND;TZID=Europe/Paris:20231128T170000
DTSTAMP:20260422T101830
CREATED:20220929T095800Z
LAST-MODIFIED:20220929T095800Z
UID:25664-1701158400-1701190800@forauco.fr
SUMMARY:Habilitation Electrique B0 H0
DESCRIPTION:
URL:https://forauco.fr/event/habilitation-electrique-b0-h0-9/
CATEGORIES:Habilitation Electrique
END:VEVENT
BEGIN:VEVENT
DTSTART;TZID=Europe/Paris:20231128T080000
DTEND;TZID=Europe/Paris:20231129T170000
DTSTAMP:20260422T101830
CREATED:20220929T100232Z
LAST-MODIFIED:20220929T100232Z
UID:25684-1701158400-1701277200@forauco.fr
SUMMARY:Habilitation Electrique BS /BE Manœuvre
DESCRIPTION:
URL:https://forauco.fr/event/habilitation-electrique-bs-be-manoeuvre-9/
CATEGORIES:Habilitation Electrique
END:VEVENT
BEGIN:VEVENT
DTSTART;TZID=Europe/Paris:20231128T080000
DTEND;TZID=Europe/Paris:20231130T170000
DTSTAMP:20260422T101830
CREATED:20220929T100627Z
LAST-MODIFIED:20220929T100627Z
UID:25704-1701158400-1701363600@forauco.fr
SUMMARY:Habilitation Electrique B1 / B1V / BR / BC  /B2 / B2V  Initiale /Recyclage
DESCRIPTION:
URL:https://forauco.fr/event/habilitation-electrique-b1-b1v-br-bc-b2-b2v-initiale-recyclage-9/
CATEGORIES:Habilitation Electrique
END:VEVENT
BEGIN:VEVENT
DTSTART;TZID=Europe/Paris:20231130T080000
DTEND;TZID=Europe/Paris:20231201T170000
DTSTAMP:20260422T101830
CREATED:20220929T094707Z
LAST-MODIFIED:20220929T094707Z
UID:25624-1701331200-1701450000@forauco.fr
SUMMARY:SST INITIALE
DESCRIPTION:
URL:https://forauco.fr/event/sst-initiale-9/
CATEGORIES:SST
END:VEVENT
END:VCALENDAR