BEGIN:VCALENDAR
VERSION:2.0
PRODID:-//Forauco - ECPv6.0.1//NONSGML v1.0//EN
CALSCALE:GREGORIAN
METHOD:PUBLISH
X-WR-CALNAME:Forauco
X-ORIGINAL-URL:https://forauco.fr
X-WR-CALDESC:Events for Forauco
REFRESH-INTERVAL;VALUE=DURATION:PT1H
X-Robots-Tag:noindex
X-PUBLISHED-TTL:PT1H
BEGIN:VTIMEZONE
TZID:Europe/Paris
BEGIN:DAYLIGHT
TZOFFSETFROM:+0100
TZOFFSETTO:+0200
TZNAME:CEST
DTSTART:20230326T010000
END:DAYLIGHT
BEGIN:STANDARD
TZOFFSETFROM:+0200
TZOFFSETTO:+0100
TZNAME:CET
DTSTART:20231029T010000
END:STANDARD
END:VTIMEZONE
BEGIN:VEVENT
DTSTART;TZID=Europe/Paris:20231002T080000
DTEND;TZID=Europe/Paris:20231208T170000
DTSTAMP:20260422T082201
CREATED:20220929T093428Z
LAST-MODIFIED:20220929T093454Z
UID:25574-1696233600-1702054800@forauco.fr
SUMMARY:SSIAP3 INITIALE
DESCRIPTION:Formation en 3 parties:\n02/10/2023\n08/12/2023\n08/12/2023
URL:https://forauco.fr/event/ssiap3-initiale/
CATEGORIES:SSIAP3
END:VEVENT
BEGIN:VEVENT
DTSTART;TZID=Europe/Paris:20231113T080000
DTEND;TZID=Europe/Paris:20231220T170000
DTSTAMP:20260422T082201
CREATED:20230914T064306Z
LAST-MODIFIED:20230914T064306Z
UID:26075-1699862400-1703091600@forauco.fr
SUMMARY:TITRE APS
DESCRIPTION:
URL:https://forauco.fr/event/titre-aps-10/
LOCATION:9 Rue du Marché Commun\, 44300 Nantes
CATEGORIES:TITRE APS
END:VEVENT
BEGIN:VEVENT
DTSTART;TZID=Europe/Paris:20231120T080000
DTEND;TZID=Europe/Paris:20231222T170000
DTSTAMP:20260422T082201
CREATED:20220929T082501Z
LAST-MODIFIED:20220929T082501Z
UID:25428-1700467200-1703264400@forauco.fr
SUMMARY:TITRE APS
DESCRIPTION:
URL:https://forauco.fr/event/titre-aps-7/
CATEGORIES:TITRE APS
END:VEVENT
BEGIN:VEVENT
DTSTART;TZID=Europe/Paris:20231130T080000
DTEND;TZID=Europe/Paris:20231201T170000
DTSTAMP:20260422T082201
CREATED:20220929T094707Z
LAST-MODIFIED:20220929T094707Z
UID:25624-1701331200-1701450000@forauco.fr
SUMMARY:SST INITIALE
DESCRIPTION:
URL:https://forauco.fr/event/sst-initiale-9/
CATEGORIES:SST
END:VEVENT
BEGIN:VEVENT
DTSTART;TZID=Europe/Paris:20231201T080000
DTEND;TZID=Europe/Paris:20231202T170000
DTSTAMP:20260422T082201
CREATED:20220929T094403Z
LAST-MODIFIED:20220929T094403Z
UID:25610-1701417600-1701536400@forauco.fr
SUMMARY:SST INITIALE
DESCRIPTION:
URL:https://forauco.fr/event/sst-initiale-2/
CATEGORIES:SST
END:VEVENT
BEGIN:VEVENT
DTSTART;TZID=Europe/Paris:20231204T080000
DTEND;TZID=Europe/Paris:20231212T170000
DTSTAMP:20260422T082201
CREATED:20220929T085350Z
LAST-MODIFIED:20220929T085350Z
UID:25477-1701676800-1702400400@forauco.fr
SUMMARY:SSIAP1 INITIALE
DESCRIPTION:
URL:https://forauco.fr/event/ssiap1-initiale-10/
CATEGORIES:SSIAP1
END:VEVENT
BEGIN:VEVENT
DTSTART;TZID=Europe/Paris:20231204T080000
DTEND;TZID=Europe/Paris:20231218T170000
DTSTAMP:20260422T082201
CREATED:20230914T064131Z
LAST-MODIFIED:20230914T064131Z
UID:26069-1701676800-1702918800@forauco.fr
SUMMARY:SSIAP1
DESCRIPTION:
URL:https://forauco.fr/event/ssiap1-3/
LOCATION:9 Rue du Marché Commun\, 44300 Nantes
CATEGORIES:SSIAP1
END:VEVENT
BEGIN:VEVENT
DTSTART;TZID=Europe/Paris:20231211T080000
DTEND;TZID=Europe/Paris:20231211T170000
DTSTAMP:20260422T082201
CREATED:20231204T100411Z
LAST-MODIFIED:20231204T100411Z
UID:26123-1702281600-1702314000@forauco.fr
SUMMARY:Recyclage SSIAP1
DESCRIPTION:
URL:https://forauco.fr/event/recyclage-ssiap1-10/
CATEGORIES:RECYCLAGE et RAN SSIAP1
END:VEVENT
BEGIN:VEVENT
DTSTART;TZID=Europe/Paris:20231211T080000
DTEND;TZID=Europe/Paris:20231213T170000
DTSTAMP:20260422T082201
CREATED:20231204T100436Z
LAST-MODIFIED:20231204T100436Z
UID:26124-1702281600-1702486800@forauco.fr
SUMMARY:RAN SSIAP1
DESCRIPTION:
URL:https://forauco.fr/event/ran-ssiap1/
CATEGORIES:RECYCLAGE et RAN SSIAP1
END:VEVENT
BEGIN:VEVENT
DTSTART;TZID=Europe/Paris:20231212T080000
DTEND;TZID=Europe/Paris:20231212T170000
DTSTAMP:20260422T082201
CREATED:20220929T091431Z
LAST-MODIFIED:20220929T091431Z
UID:25527-1702368000-1702400400@forauco.fr
SUMMARY:RECYCLAGE SSIAP1
DESCRIPTION:
URL:https://forauco.fr/event/recyclage-ssiap1-9/
CATEGORIES:RECYCLAGE et RAN SSIAP1
END:VEVENT
BEGIN:VEVENT
DTSTART;TZID=Europe/Paris:20231212T080000
DTEND;TZID=Europe/Paris:20231213T170000
DTSTAMP:20260422T082201
CREATED:20220929T090124Z
LAST-MODIFIED:20220929T090335Z
UID:25493-1702368000-1702486800@forauco.fr
SUMMARY:REMISE A NIVEAU SSIAP1
DESCRIPTION:
URL:https://forauco.fr/event/remise-a-niveau-ssiap1-8/
CATEGORIES:RECYCLAGE et RAN SSIAP1
END:VEVENT
BEGIN:VEVENT
DTSTART;TZID=Europe/Paris:20231218T080000
DTEND;TZID=Europe/Paris:20231218T170000
DTSTAMP:20260422T082201
CREATED:20220929T095819Z
LAST-MODIFIED:20220929T095819Z
UID:25666-1702886400-1702918800@forauco.fr
SUMMARY:Habilitation Electrique B0 H0
DESCRIPTION:
URL:https://forauco.fr/event/habilitation-electrique-b0-h0-10/
CATEGORIES:Habilitation Electrique
END:VEVENT
BEGIN:VEVENT
DTSTART;TZID=Europe/Paris:20231218T080000
DTEND;TZID=Europe/Paris:20231219T170000
DTSTAMP:20260422T082201
CREATED:20220929T100256Z
LAST-MODIFIED:20220929T100256Z
UID:25686-1702886400-1703005200@forauco.fr
SUMMARY:Habilitation Electrique BS /BE Manœuvre
DESCRIPTION:
URL:https://forauco.fr/event/habilitation-electrique-bs-be-manoeuvre-10/
CATEGORIES:Habilitation Electrique
END:VEVENT
BEGIN:VEVENT
DTSTART;TZID=Europe/Paris:20231218T080000
DTEND;TZID=Europe/Paris:20231220T170000
DTSTAMP:20260422T082201
CREATED:20220929T100648Z
LAST-MODIFIED:20220929T100648Z
UID:25706-1702886400-1703091600@forauco.fr
SUMMARY:Habilitation Electrique B1 / B1V / BR / BC  /B2 / B2V  Initiale /Recyclage
DESCRIPTION:
URL:https://forauco.fr/event/habilitation-electrique-b1-b1v-br-bc-b2-b2v-initiale-recyclage-10/
CATEGORIES:Habilitation Electrique
END:VEVENT
BEGIN:VEVENT
DTSTART;TZID=Europe/Paris:20231218T080000
DTEND;TZID=Europe/Paris:20231222T170000
DTSTAMP:20260422T082201
CREATED:20231204T100451Z
LAST-MODIFIED:20231204T100451Z
UID:26125-1702886400-1703264400@forauco.fr
SUMMARY:MAC APS
DESCRIPTION:
URL:https://forauco.fr/event/mac-aps-13/
CATEGORIES:MAC APS
END:VEVENT
BEGIN:VEVENT
DTSTART;TZID=Europe/Paris:20231219T080000
DTEND;TZID=Europe/Paris:20231222T170000
DTSTAMP:20260422T082201
CREATED:20220929T094309Z
LAST-MODIFIED:20220929T094309Z
UID:25606-1702972800-1703264400@forauco.fr
SUMMARY:MAC APS
DESCRIPTION:
URL:https://forauco.fr/event/mac-aps-9/
CATEGORIES:MAC APS
END:VEVENT
BEGIN:VEVENT
DTSTART;TZID=Europe/Paris:20231222T080000
DTEND;TZID=Europe/Paris:20231222T170000
DTSTAMP:20260422T082201
CREATED:20220929T095316Z
LAST-MODIFIED:20220929T095316Z
UID:25646-1703232000-1703264400@forauco.fr
SUMMARY:SST recyclage
DESCRIPTION:
URL:https://forauco.fr/event/sst-recyclage-11/
CATEGORIES:MAC SST
END:VEVENT
END:VCALENDAR